BEGIN:VCALENDAR
PRODID:-//github.com/rianjs/ical.net//NONSGML ical.net 4.0//EN
VERSION:2.0
BEGIN:VEVENT
DESCRIPTION:\n\nhttps://ssl.eventilla.com/attend/now/57dY4
DTEND:20260528T200000
DTSTAMP:20260528T180000
DTSTART:20260528T180000
LOCATION:Original Sokos Hotel Seurahuone\, Othello-kabinetti\, Kauppatori 
 4-6\, Savonlinna
SEQUENCE:0
SUMMARY:Savonlinnan veroilta: Perintöverosuunnittelu
UID:57dY4@eventilla.com
URL:https://ssl.eventilla.com/attend/now/57dY4
END:VEVENT
END:VCALENDAR
