BEGIN:VCALENDAR
PRODID:-//github.com/rianjs/ical.net//NONSGML ical.net 4.0//EN
VERSION:2.0
BEGIN:VEVENT
DESCRIPTION:\n\nhttps://ssl.eventilla.com/attend/now/5dAa7
DTEND:20260422T203000
DTSTAMP:20260422T183000
DTSTART:20260422T183000
LOCATION:Seurakuntaopisto\, Auditorio\, Järvenpääntie 640\, Järvenpää
SEQUENCE:0
SUMMARY:Järvenpään veroilta: Perintöverosuunnittelu
UID:5dAa7@eventilla.com
URL:https://ssl.eventilla.com/attend/now/5dAa7
END:VEVENT
END:VCALENDAR
