BEGIN:VCALENDAR
PRODID:-//github.com/rianjs/ical.net//NONSGML ical.net 4.0//EN
VERSION:2.0
BEGIN:VEVENT
DESCRIPTION:\n\nhttps://ssl.eventilla.com/attend/now/2wKW5
DTEND:20260421T200000
DTSTAMP:20260421T180000
DTSTART:20260421T180000
LOCATION:Kajaanin teknologiakeskus\, auditorio\, Linnankatu 6\, Kajaani
SEQUENCE:0
SUMMARY:Kajaanin veroilta: Sijoittajan verokysymyksiä
UID:2wKW5@eventilla.com
URL:https://ssl.eventilla.com/attend/now/2wKW5
END:VEVENT
END:VCALENDAR
